BEGIN:VCALENDAR
VERSION:2.0
PRODID:-//Sabre//Sabre VObject 4.5.8//EN
CALSCALE:GREGORIAN
BEGIN:VEVENT
UID:sabre-vobject-17624970-c3bf-4e31-9436-38f1ebb3a9c9
DTSTAMP:20260424T164941Z
SUMMARY:Maiandacht am Käppele
DESCRIPTION:https://pfarreien-bistum-augsburg.df-preview.de/maiandacht-am-k
 aeppele_id1754901
DTSTART;TZID=Europe/Berlin:20260517T191500
DURATION:PT30M
LOCATION:St. Silvester
END:VEVENT
END:VCALENDAR
