BEGIN:VCALENDAR
VERSION:2.0
PRODID:-//Sabre//Sabre VObject 4.5.8//EN
CALSCALE:GREGORIAN
BEGIN:VEVENT
UID:sabre-vobject-58e74193-46ce-40d2-b16d-205a3845eb09
DTSTAMP:20260423T222535Z
SUMMARY:Festgottesdienst zu Fronleichnam\, anschl. Prozession - Heilige Mes
 se
DESCRIPTION:https://pfarreien-bistum-augsburg.df-preview.de/festgottesdiens
 t-zu-fronleichnam-anschl-prozession-heilige-messe_id1754896
DTSTART;TZID=Europe/Berlin:20260531T101500
DURATION:PT30M
LOCATION:St. Silvester
END:VEVENT
END:VCALENDAR
