BEGIN:VCALENDAR
VERSION:2.0
PRODID:-//Sabre//Sabre VObject 4.5.8//EN
CALSCALE:GREGORIAN
BEGIN:VEVENT
UID:sabre-vobject-2a72994b-cfe8-464f-9beb-463aac48ff98
DTSTAMP:20260423T143656Z
SUMMARY:Opfer für den Maialtar
DESCRIPTION:https://pfarreien-bistum-augsburg.df-preview.de/opfer-fuer-den-
 maialtar_id1754895
DTSTART;TZID=Europe/Berlin:20260531T000000
DURATION:PT30M
LOCATION:St. Silvester
END:VEVENT
END:VCALENDAR
