BEGIN:VCALENDAR
VERSION:2.0
PRODID:-//Sabre//Sabre VObject 4.5.8//EN
CALSCALE:GREGORIAN
BEGIN:VEVENT
UID:sabre-vobject-2ced4a2f-4b98-4276-a4f5-16ab7ea918f7
DTSTAMP:20260424T160001Z
SUMMARY:Patrozinium St. Josef
DESCRIPTION:https://pfarreien-bistum-augsburg.df-preview.de/patrozinium-st-
 josef_id1754868
DTSTART;TZID=Europe/Berlin:20260501T140000
DURATION:PT30M
LOCATION:Mariä Himmelfahrt
END:VEVENT
END:VCALENDAR
