BEGIN:VCALENDAR
VERSION:2.0
PRODID:-//Sabre//Sabre VObject 4.5.8//EN
CALSCALE:GREGORIAN
BEGIN:VEVENT
UID:sabre-vobject-3e9790cd-42f8-4479-83f4-74e989405317
DTSTAMP:20260425T033955Z
SUMMARY:Hintere Kapelle: Rosenkranz
DESCRIPTION:https://pfarreien-bistum-augsburg.df-preview.de/hintere-kapelle
 -rosenkranz_id1754866
DTSTART;TZID=Europe/Berlin:20260430T180000
DURATION:PT30M
LOCATION:St. Antonius
END:VEVENT
END:VCALENDAR
