BEGIN:VCALENDAR
VERSION:2.0
PRODID:-//Sabre//Sabre VObject 4.5.8//EN
CALSCALE:GREGORIAN
BEGIN:VEVENT
UID:sabre-vobject-24d78b3e-1153-4a0d-a94c-63741d55589b
DTSTAMP:20260424T145239Z
SUMMARY:Dankandacht d. Erstkommunionkinder
DESCRIPTION:https://pfarreien-bistum-augsburg.df-preview.de/dankandacht-d-e
 rstkommunionkinder_id1754794
DTSTART;TZID=Europe/Berlin:20260426T180000
DURATION:PT30M
LOCATION:St. Michael
END:VEVENT
END:VCALENDAR
