BEGIN:VCALENDAR
VERSION:2.0
PRODID:-//Sabre//Sabre VObject 4.5.8//EN
CALSCALE:GREGORIAN
BEGIN:VEVENT
UID:sabre-vobject-8af3af56-3e51-4e1b-b948-ee83e8be7e26
DTSTAMP:20260424T224504Z
SUMMARY:Rosenkranz für die Verstorbenen der PG
DESCRIPTION:https://pfarreien-bistum-augsburg.df-preview.de/rosenkranz-fuer
 -die-verstorbenen-der-pg_id1754695
DTSTART;TZID=Europe/Berlin:20260428T083000
DURATION:PT30M
LOCATION:St. Ulrich
END:VEVENT
END:VCALENDAR
