BEGIN:VCALENDAR
VERSION:2.0
PRODID:-//Sabre//Sabre VObject 4.5.8//EN
CALSCALE:GREGORIAN
BEGIN:VEVENT
UID:sabre-vobject-9e15a90c-72d2-47ab-b763-6cbf0222f1dc
DTSTAMP:20260425T045711Z
SUMMARY:Anbetung bis 18.00 Uhr um Frieden in der Welt  (17.00 - 18.00 Uhr g
 estaltet\, Segen)
DESCRIPTION:https://pfarreien-bistum-augsburg.df-preview.de/anbetung-bis-18
 -00-uhr-um-frieden-in-der-welt-17-00-18-00-uhr-gestaltet-segen_id1754640
DTSTART;TZID=Europe/Berlin:20260429T091500
DURATION:PT30M
LOCATION:St. Stephan\, Hauberstraße 2\, 87719 Mindelheim
END:VEVENT
END:VCALENDAR
