BEGIN:VCALENDAR
VERSION:2.0
PRODID:-//Sabre//Sabre VObject 4.5.8//EN
CALSCALE:GREGORIAN
BEGIN:VEVENT
UID:sabre-vobject-5e6bf5b4-c231-49ae-a569-97514b27372b
DTSTAMP:20260424T065746Z
SUMMARY:Heilige Messe in Leubas
DESCRIPTION:https://pfarreien-bistum-augsburg.df-preview.de/gottesdienste/h
 eilige-messe-in-leubas_id1754602
DTSTART;TZID=Europe/Berlin:20260430T080000
DURATION:PT30M
LOCATION:St. Ursula
END:VEVENT
END:VCALENDAR
