BEGIN:VCALENDAR
VERSION:2.0
PRODID:-//Sabre//Sabre VObject 4.5.8//EN
CALSCALE:GREGORIAN
BEGIN:VEVENT
UID:sabre-vobject-af7bc18d-0295-4aea-8a1b-903e06799005
DTSTAMP:20260425T021944Z
SUMMARY:Rosenkranz zur Förderung der Priester- und Ordensberufe
DESCRIPTION:https://pfarreien-bistum-augsburg.df-preview.de/rosenkranz-zur-
 foerderung-der-priester-und-ordensberufe_id1754599
DTSTART;TZID=Europe/Berlin:20260501T183000
DURATION:PT30M
LOCATION:St. Ulrich
END:VEVENT
END:VCALENDAR
