BEGIN:VCALENDAR
VERSION:2.0
PRODID:-//Sabre//Sabre VObject 4.5.8//EN
CALSCALE:GREGORIAN
BEGIN:VEVENT
UID:sabre-vobject-6264da43-56e5-48b7-b5dd-aab0f3359939
DTSTAMP:20260424T225755Z
SUMMARY:Taufe:
DESCRIPTION:https://pfarreien-bistum-augsburg.df-preview.de/taufe_id1754521
DTSTART;TZID=Europe/Berlin:20260501T140000
DURATION:PT30M
LOCATION:St. Nikolaus
END:VEVENT
END:VCALENDAR
