BEGIN:VCALENDAR
VERSION:2.0
PRODID:-//Sabre//Sabre VObject 4.5.8//EN
CALSCALE:GREGORIAN
BEGIN:VEVENT
UID:sabre-vobject-77f99ea9-289c-4327-88e1-0f5ef1321106
DTSTAMP:20260425T034030Z
SUMMARY:Hl. Messe mit Vorstellung d. neuen Pfarrgemeinderates
DESCRIPTION:https://pfarreien-bistum-augsburg.df-preview.de/hl-messe-mit-vo
 rstellung-d-neuen-pfarrgemeinderates_id1754519
DTSTART;TZID=Europe/Berlin:20260503T103000
DURATION:PT30M
LOCATION:St. Nikolaus
END:VEVENT
END:VCALENDAR
