BEGIN:VCALENDAR
VERSION:2.0
PRODID:-//Sabre//Sabre VObject 4.5.8//EN
CALSCALE:GREGORIAN
BEGIN:VEVENT
UID:sabre-vobject-d7f1f0ec-a7bb-44a9-a427-92b8b051cef7
DTSTAMP:20260424T205213Z
SUMMARY:keine Heilige Messe
DESCRIPTION:https://pfarreien-bistum-augsburg.df-preview.de/keine-heilige-m
 esse_id1754475
DTSTART;TZID=Europe/Berlin:20260425T090000
DURATION:PT30M
LOCATION:St. Jakobus maj.
END:VEVENT
END:VCALENDAR
