BEGIN:VCALENDAR
VERSION:2.0
PRODID:-//Sabre//Sabre VObject 4.5.8//EN
CALSCALE:GREGORIAN
BEGIN:VEVENT
UID:sabre-vobject-ecb0e4c1-b360-4345-bd67-43ecba9ff705
DTSTAMP:20260425T101740Z
SUMMARY:Heilige Messe
DESCRIPTION:https://pfarreien-bistum-augsburg.df-preview.de/heilige-messe_i
 d1754410
DTSTART;TZID=Europe/Berlin:20260519T090000
DURATION:PT30M
LOCATION:St. Vitus
END:VEVENT
END:VCALENDAR
