BEGIN:VCALENDAR
VERSION:2.0
PRODID:-//Sabre//Sabre VObject 4.5.8//EN
CALSCALE:GREGORIAN
BEGIN:VEVENT
UID:sabre-vobject-a3a3d289-a992-412c-9f97-b29e174daf77
DTSTAMP:20260424T213600Z
SUMMARY:Familiengottesdienst für die Lebenden u. Verstorbenen der Pfarrei
DESCRIPTION:https://pfarreien-bistum-augsburg.df-preview.de/familiengottesd
 ienst-fuer-die-lebenden-u-verstorbenen-der-pfarrei_id1754380
DTSTART;TZID=Europe/Berlin:20260517T100000
DURATION:PT30M
LOCATION:St. Martin\, Herzog-Georg-Straße 48\, 89415 Lauingen
END:VEVENT
END:VCALENDAR
