BEGIN:VCALENDAR
VERSION:2.0
PRODID:-//Sabre//Sabre VObject 4.5.8//EN
CALSCALE:GREGORIAN
BEGIN:VEVENT
UID:sabre-vobject-1fb86c61-0ffb-4e4c-ba62-9cb3a3449974
DTSTAMP:20260425T193137Z
SUMMARY:Maiandacht (musikal. gest. v. Landfrauenchor Neu-Ulm)
DESCRIPTION:https://pfarreien-bistum-augsburg.df-preview.de/maiandacht-musi
 kal-gest-v-landfrauenchor-neu-ulm_id1754376
DTSTART;TZID=Europe/Berlin:20260517T140000
DURATION:PT30M
LOCATION:Mariä Himmelfahrt
END:VEVENT
END:VCALENDAR
