BEGIN:VCALENDAR
VERSION:2.0
PRODID:-//Sabre//Sabre VObject 4.5.8//EN
CALSCALE:GREGORIAN
BEGIN:VEVENT
UID:sabre-vobject-302859a2-8717-4847-b6c2-eb84325ffac5
DTSTAMP:20260425T204611Z
SUMMARY:Kinderkirche
DESCRIPTION:https://pfarreien-bistum-augsburg.df-preview.de/kinderkirche_id
 1754375
DTSTART;TZID=Europe/Berlin:20260517T110000
DURATION:PT30M
LOCATION:Mariä Himmelfahrt
END:VEVENT
END:VCALENDAR
