BEGIN:VCALENDAR
VERSION:2.0
PRODID:-//Sabre//Sabre VObject 4.5.8//EN
CALSCALE:GREGORIAN
BEGIN:VEVENT
UID:sabre-vobject-928d4602-5b66-4f4d-88a2-9dc968ade1d3
DTSTAMP:20260425T131602Z
SUMMARY:Fußwallfahrt nach Matzenhofen
DESCRIPTION:https://pfarreien-bistum-augsburg.df-preview.de/fusswallfahrt-n
 ach-matzenhofen_id1754365
DTSTART;TZID=Europe/Berlin:20260523T063000
DURATION:PT30M
LOCATION:Mariä Himmelfahrt
END:VEVENT
END:VCALENDAR
