BEGIN:VCALENDAR
VERSION:2.0
PRODID:-//Sabre//Sabre VObject 4.5.8//EN
CALSCALE:GREGORIAN
BEGIN:VEVENT
UID:sabre-vobject-408b88c1-bef6-4cdc-b9c4-1439e9f3a7b1
DTSTAMP:20260424T010514Z
SUMMARY:Kapelle Bruck: Rosenkranz
DESCRIPTION:https://pfarreien-bistum-augsburg.df-preview.de/kapelle-bruck-r
 osenkranz_id1754346
DTSTART;TZID=Europe/Berlin:20260519T183000
DURATION:PT30M
LOCATION:St. Antonius
END:VEVENT
END:VCALENDAR
