BEGIN:VCALENDAR
VERSION:2.0
PRODID:-//Sabre//Sabre VObject 4.5.8//EN
CALSCALE:GREGORIAN
BEGIN:VEVENT
UID:sabre-vobject-ad78179c-731b-4a6c-8c66-8b37c6c68462
DTSTAMP:20260425T131531Z
SUMMARY:Vorabendmesse f.d. Pfarrgemeinden
DESCRIPTION:https://pfarreien-bistum-augsburg.df-preview.de/vorabendmesse-f
 -d-pfarrgemeinden_id1754332
DTSTART;TZID=Europe/Berlin:20260516T190000
DURATION:PT30M
LOCATION:Mariä Geburt
END:VEVENT
END:VCALENDAR
