BEGIN:VCALENDAR
VERSION:2.0
PRODID:-//Sabre//Sabre VObject 4.5.8//EN
CALSCALE:GREGORIAN
BEGIN:VEVENT
UID:sabre-vobject-466bcc13-0d72-490d-a3c0-10bceb23198f
DTSTAMP:20260425T142203Z
SUMMARY:HM
DESCRIPTION:https://pfarreien-bistum-augsburg.df-preview.de/hm_id1754308
DTSTART;TZID=Europe/Berlin:20260522T190000
DURATION:PT30M
LOCATION:Mariä Himmelfahrt
END:VEVENT
END:VCALENDAR
