BEGIN:VCALENDAR
VERSION:2.0
PRODID:-//Sabre//Sabre VObject 4.5.8//EN
CALSCALE:GREGORIAN
BEGIN:VEVENT
UID:sabre-vobject-836f185c-3e99-4122-9086-6a574e5e8cdc
DTSTAMP:20260425T154612Z
SUMMARY:Konventmesse in Konzelebration
DESCRIPTION:https://pfarreien-bistum-augsburg.df-preview.de/konventmesse-in
 -konzelebration_id1754307
DTSTART;TZID=Europe/Berlin:20260521T190000
DURATION:PT30M
LOCATION:Mariä Himmelfahrt
END:VEVENT
END:VCALENDAR
