BEGIN:VCALENDAR
VERSION:2.0
PRODID:-//Sabre//Sabre VObject 4.5.8//EN
CALSCALE:GREGORIAN
BEGIN:VEVENT
UID:sabre-vobject-f809bd08-7d92-4edc-99d7-3126e2bf79d5
DTSTAMP:20260423T221639Z
SUMMARY:Männerwallfahrt nach Altötting\, am Hauptplatz in Hohenfurch\, An
 meldung bei Matthias Zeidlmaier
DESCRIPTION:https://pfarreien-bistum-augsburg.df-preview.de/maennerwallfahr
 t-nach-altoetting-am-hauptplatz-in-hohenfurch-anmeldung-bei-matthias-zeidl
 maier_id1754280
DTSTART;TZID=Europe/Berlin:20260425T073000
DURATION:PT30M
LOCATION:Mariä Himmelfahrt
END:VEVENT
END:VCALENDAR
