BEGIN:VCALENDAR
VERSION:2.0
PRODID:-//Sabre//Sabre VObject 4.5.8//EN
CALSCALE:GREGORIAN
BEGIN:VEVENT
UID:sabre-vobject-8561fb70-7cfd-47d5-8099-8186d5180661
DTSTAMP:20260424T102851Z
SUMMARY:Dankandacht der Kommunionkinder
DESCRIPTION:https://pfarreien-bistum-augsburg.df-preview.de/dankandacht-der
 -kommunionkinder_id1754203
DTSTART;TZID=Europe/Berlin:20260426T180000
DURATION:PT30M
LOCATION:Basilica minor St. Michael
END:VEVENT
END:VCALENDAR
