BEGIN:VCALENDAR
VERSION:2.0
PRODID:-//Sabre//Sabre VObject 4.5.8//EN
CALSCALE:GREGORIAN
BEGIN:VEVENT
UID:sabre-vobject-1ebca49c-119e-4724-a4d7-ad43a5abfaaa
DTSTAMP:20260424T203133Z
SUMMARY:HM f.d. Pfarrgemeinden
DESCRIPTION:https://pfarreien-bistum-augsburg.df-preview.de/hm-f-d-pfarrgem
 einden_id1754200
DTSTART;TZID=Europe/Berlin:20260503T084500
DURATION:PT30M
LOCATION:St. Sebastian
END:VEVENT
END:VCALENDAR
