BEGIN:VCALENDAR
VERSION:2.0
PRODID:-//Sabre//Sabre VObject 4.5.8//EN
CALSCALE:GREGORIAN
BEGIN:VEVENT
UID:sabre-vobject-3f75a00f-5ccf-4e02-a734-0849b8cc2082
DTSTAMP:20260424T193059Z
SUMMARY:HM
DESCRIPTION:https://pfarreien-bistum-augsburg.df-preview.de/hm_id1754185
DTSTART;TZID=Europe/Berlin:20260505T190000
DURATION:PT30M
LOCATION:St. Sebastian
END:VEVENT
END:VCALENDAR
