BEGIN:VCALENDAR
VERSION:2.0
PRODID:-//Sabre//Sabre VObject 4.5.8//EN
CALSCALE:GREGORIAN
BEGIN:VEVENT
UID:sabre-vobject-93b90ab0-37fd-48c2-ae50-a2107c6c6686
DTSTAMP:20260424T001823Z
SUMMARY:Heilige Messe
DESCRIPTION:https://pfarreien-bistum-augsburg.df-preview.de/heilige-messe_i
 d1754167
DTSTART;TZID=Europe/Berlin:20260424T080000
DURATION:PT30M
LOCATION:St. Ulrich
END:VEVENT
END:VCALENDAR
