BEGIN:VCALENDAR
VERSION:2.0
PRODID:-//Sabre//Sabre VObject 4.5.8//EN
CALSCALE:GREGORIAN
BEGIN:VEVENT
UID:sabre-vobject-b04147e6-72bc-4ffe-a45b-43158f3a1f1c
DTSTAMP:20260424T030403Z
SUMMARY:"Neuer Abendgottesdienst" - Heilige Messe im großen Pfarrsaal
DESCRIPTION:https://pfarreien-bistum-augsburg.df-preview.de/gottesdienste/n
 euer-abendgottesdienst-heilige-messe-im-grossen-pfarrsaal_id1754051
DTSTART;TZID=Europe/Berlin:20260426T180000
DURATION:PT30M
LOCATION:Zu den Acht Seligkeiten
END:VEVENT
END:VCALENDAR
