BEGIN:VCALENDAR
VERSION:2.0
PRODID:-//Sabre//Sabre VObject 4.5.8//EN
CALSCALE:GREGORIAN
BEGIN:VEVENT
UID:sabre-vobject-d8dbaf5c-cbe6-445d-a721-bfe8a32fed4f
DTSTAMP:20260425T181720Z
SUMMARY:Abmarsch zur Friedenswallfahrt
DESCRIPTION:https://pfarreien-bistum-augsburg.df-preview.de/abmarsch-zur-fr
 iedenswallfahrt_id1753981
DTSTART;TZID=Europe/Berlin:20260514T174500
DURATION:PT30M
LOCATION:St. Franziskus
END:VEVENT
END:VCALENDAR
