BEGIN:VCALENDAR
VERSION:2.0
PRODID:-//Sabre//Sabre VObject 4.5.8//EN
CALSCALE:GREGORIAN
BEGIN:VEVENT
UID:sabre-vobject-fb293218-5e98-4e3d-a3fe-068c1bdbc0d5
DTSTAMP:20260425T003647Z
SUMMARY:Pfarrgottesdienst Hl. Messe für die leb. u. verst. Mitglieder der 
 Pfarrgemeinde
DESCRIPTION:https://pfarreien-bistum-augsburg.df-preview.de/pfarrgottesdien
 st-hl-messe-fuer-die-leb-u-verst-mitglieder-der-pfarrgemeinde_id1753980
DTSTART;TZID=Europe/Berlin:20260503T110000
DURATION:PT30M
LOCATION:St. Michael
END:VEVENT
END:VCALENDAR
