BEGIN:VCALENDAR
VERSION:2.0
PRODID:-//Sabre//Sabre VObject 4.5.8//EN
CALSCALE:GREGORIAN
BEGIN:VEVENT
UID:sabre-vobject-46e48c8d-3b14-497f-a5f9-e687220072c1
DTSTAMP:20260424T172814Z
SUMMARY:Heilige Messe
DESCRIPTION:https://pfarreien-bistum-augsburg.df-preview.de/heilige-messe_i
 d1753977
DTSTART;TZID=Europe/Berlin:20260506T193000
DURATION:PT30M
LOCATION:St. Michael
END:VEVENT
END:VCALENDAR
