BEGIN:VCALENDAR
VERSION:2.0
PRODID:-//Sabre//Sabre VObject 4.5.8//EN
CALSCALE:GREGORIAN
BEGIN:VEVENT
UID:sabre-vobject-1b296f5a-91ef-41b9-8f2c-542cefe2ebf7
DTSTAMP:20260425T170815Z
SUMMARY:Rosenkranz um geistliche Berufungen und Beichtgelegenheit
DESCRIPTION:https://pfarreien-bistum-augsburg.df-preview.de/rosenkranz-um-g
 eistliche-berufungen-und-beichtgelegenheit_id1753961
DTSTART;TZID=Europe/Berlin:20260426T083000
DURATION:PT30M
LOCATION:Mariä Himmelfahrt
END:VEVENT
END:VCALENDAR
