BEGIN:VCALENDAR
VERSION:2.0
PRODID:-//Sabre//Sabre VObject 4.5.8//EN
CALSCALE:GREGORIAN
BEGIN:VEVENT
UID:sabre-vobject-ff529dbb-40a7-4cc8-8c54-2f4774f88b75
DTSTAMP:20260424T071150Z
SUMMARY:Rosenkranzgebet
DESCRIPTION:https://pfarreien-bistum-augsburg.df-preview.de/rosenkranzgebet
 _id1753952
DTSTART;TZID=Europe/Berlin:20260422T143000
DURATION:PT30M
LOCATION:St. Verena
END:VEVENT
END:VCALENDAR
