BEGIN:VCALENDAR
VERSION:2.0
PRODID:-//Sabre//Sabre VObject 4.5.8//EN
CALSCALE:GREGORIAN
BEGIN:VEVENT
UID:sabre-vobject-527b7a66-5b15-4aed-9e1c-7bc7fee28864
DTSTAMP:20260424T120928Z
SUMMARY:Pfarrgottesdienst mit Pfr. Gabriel Bucher
DESCRIPTION:https://pfarreien-bistum-augsburg.df-preview.de/pfarrgottesdien
 st-mit-pfr-gabriel-bucher_id1753779
DTSTART;TZID=Europe/Berlin:20260503T101500
DURATION:PT30M
LOCATION:St. Michael
END:VEVENT
END:VCALENDAR
