BEGIN:VCALENDAR
VERSION:2.0
PRODID:-//Sabre//Sabre VObject 4.5.8//EN
CALSCALE:GREGORIAN
BEGIN:VEVENT
UID:sabre-vobject-b6826841-6695-41d6-bfcc-e390e9f347cb
DTSTAMP:20260424T221454Z
SUMMARY:Pfarrgottesdienst mit Monatsprozession
DESCRIPTION:https://pfarreien-bistum-augsburg.df-preview.de/pfarrgottesdien
 st-mit-monatsprozession_id1753752
DTSTART;TZID=Europe/Berlin:20260607T084500
DURATION:PT30M
LOCATION:St. Martin
END:VEVENT
END:VCALENDAR
