BEGIN:VCALENDAR
VERSION:2.0
PRODID:-//Sabre//Sabre VObject 4.5.8//EN
CALSCALE:GREGORIAN
BEGIN:VEVENT
UID:sabre-vobject-eca6264b-c9dc-4564-8246-d86885ba8ce7
DTSTAMP:20260424T160006Z
SUMMARY:Taufe von Aliya Gröger
DESCRIPTION:https://pfarreien-bistum-augsburg.df-preview.de/taufe-von-aliya
 -groeger_id1753653
DTSTART;TZID=Europe/Berlin:20260425T140000
DURATION:PT30M
LOCATION:St. Peter und Paul
END:VEVENT
END:VCALENDAR
