BEGIN:VCALENDAR
VERSION:2.0
PRODID:-//Sabre//Sabre VObject 4.5.8//EN
CALSCALE:GREGORIAN
BEGIN:VEVENT
UID:sabre-vobject-f9599d55-dd7f-4263-ba6b-95a669cf082c
DTSTAMP:20260424T173337Z
SUMMARY:Patrozinium St. Pankratius -  Familiengottesdienst   (Kollekte: Kat
 holikentag Würzburg)
DESCRIPTION:https://pfarreien-bistum-augsburg.df-preview.de/patrozinium-st-
 pankratius-familiengottesdienst-kollekte-katholikentag-wuerzburg_id1753514
DTSTART;TZID=Europe/Berlin:20260510T100000
DURATION:PT30M
LOCATION:St. Pankratius
END:VEVENT
END:VCALENDAR
