BEGIN:VCALENDAR
VERSION:2.0
PRODID:-//Sabre//Sabre VObject 4.5.8//EN
CALSCALE:GREGORIAN
BEGIN:VEVENT
UID:sabre-vobject-63663114-219a-45f8-982b-17194788bb2b
DTSTAMP:20260424T120308Z
SUMMARY:Rosenkranz
DESCRIPTION:https://pfarreien-bistum-augsburg.df-preview.de/rosenkranz_id17
 53478
DTSTART;TZID=Europe/Berlin:20260529T090000
DURATION:PT30M
LOCATION:St. Pankratius
END:VEVENT
END:VCALENDAR
