BEGIN:VCALENDAR
VERSION:2.0
PRODID:-//Sabre//Sabre VObject 4.5.8//EN
CALSCALE:GREGORIAN
BEGIN:VEVENT
UID:sabre-vobject-dc1318c5-2e0c-4130-b9d2-f5a75202bc99
DTSTAMP:20260424T225751Z
SUMMARY:Taufe: Milo Scicchitano
DESCRIPTION:https://pfarreien-bistum-augsburg.df-preview.de/taufe-milo-scic
 chitano_id1753395
DTSTART;TZID=Europe/Berlin:20260516T110000
DURATION:PT30M
LOCATION:St. Michael
END:VEVENT
END:VCALENDAR
