BEGIN:VCALENDAR
VERSION:2.0
PRODID:-//Sabre//Sabre VObject 4.5.8//EN
CALSCALE:GREGORIAN
BEGIN:VEVENT
UID:sabre-vobject-7116f50f-5a84-4c5a-8bca-963de152016f
DTSTAMP:20260424T194737Z
SUMMARY:Maiandacht
DESCRIPTION:https://pfarreien-bistum-augsburg.df-preview.de/pfarreien/ettin
 g-st-michael/veranstaltungen/maiandacht_id1753277
DTSTART;TZID=Europe/Berlin:20260531T190000
DTEND;TZID=Europe/Berlin:20260531T200000
END:VEVENT
END:VCALENDAR
