BEGIN:VCALENDAR
VERSION:2.0
PRODID:-//Sabre//Sabre VObject 4.5.8//EN
CALSCALE:GREGORIAN
BEGIN:VEVENT
UID:sabre-vobject-78d54e43-05ca-4d86-a9da-ebab425e4f61
DTSTAMP:20260424T214312Z
SUMMARY:Maiandacht
DESCRIPTION:https://pfarreien-bistum-augsburg.df-preview.de/pfarreien/ettin
 g-st-michael/veranstaltungen/maiandacht_id1753276
DTSTART;TZID=Europe/Berlin:20260509T193000
DTEND;TZID=Europe/Berlin:20260509T203000
END:VEVENT
END:VCALENDAR
