BEGIN:VCALENDAR
VERSION:2.0
PRODID:-//Sabre//Sabre VObject 4.5.8//EN
CALSCALE:GREGORIAN
BEGIN:VEVENT
UID:sabre-vobject-1290b40c-408d-448f-bf68-21ef576620b9
DTSTAMP:20260424T183519Z
SUMMARY:Maiandacht
DESCRIPTION:https://pfarreien-bistum-augsburg.df-preview.de/pfarreien/ettin
 g-st-michael/veranstaltungen/maiandacht_id1753275
DTSTART;TZID=Europe/Berlin:20260508T193000
DTEND;TZID=Europe/Berlin:20260508T203000
END:VEVENT
END:VCALENDAR
