BEGIN:VCALENDAR
VERSION:2.0
PRODID:-//Sabre//Sabre VObject 4.5.8//EN
CALSCALE:GREGORIAN
BEGIN:VEVENT
UID:sabre-vobject-3bb2a167-86b5-4c20-bee4-b58afbccd0ff
DTSTAMP:20260424T081706Z
SUMMARY:Kindermaiandacht in Hollenbach
DESCRIPTION:https://pfarreien-bistum-augsburg.df-preview.de/kindermaiandach
 t-in-hollenbach_id1753241
DTSTART;TZID=Europe/Berlin:20260508T180000
DURATION:PT30M
LOCATION:St. Michael\, Augsburger Str.\, 86568 Hollenbach
END:VEVENT
END:VCALENDAR
