BEGIN:VCALENDAR
VERSION:2.0
PRODID:-//Sabre//Sabre VObject 4.5.8//EN
CALSCALE:GREGORIAN
BEGIN:VEVENT
UID:sabre-vobject-0840834c-acb0-444e-8dc9-acf5eac983e0
DTSTAMP:20260422T122155Z
SUMMARY:Sonntagvorabendmesse
DESCRIPTION:https://pfarreien-bistum-augsburg.df-preview.de/sonntagvorabend
 messe_id1753222
DTSTART;TZID=Europe/Berlin:20260425T190000
DURATION:PT30M
LOCATION:St. Nikolaus\, Kirchpl. 3\, 86570 Inchenhofen
END:VEVENT
END:VCALENDAR
