BEGIN:VCALENDAR
VERSION:2.0
PRODID:-//Sabre//Sabre VObject 4.5.8//EN
CALSCALE:GREGORIAN
BEGIN:VEVENT
UID:sabre-vobject-4b4daf8f-5bf7-421e-b14c-fea5e712a36a
DTSTAMP:20260426T035047Z
SUMMARY:Festgottesdienst zum Hochfest
DESCRIPTION:https://pfarreien-bistum-augsburg.df-preview.de/festgottesdiens
 t-zum-hochfest_id1753138
DTSTART;TZID=Europe/Berlin:20260501T100000
DURATION:PT30M
LOCATION:St. Johannes Baptist\, St.-Johannes-Straße 3\, 87650 Baisweil
END:VEVENT
END:VCALENDAR
