BEGIN:VCALENDAR
VERSION:2.0
PRODID:-//Sabre//Sabre VObject 4.5.8//EN
CALSCALE:GREGORIAN
BEGIN:VEVENT
UID:sabre-vobject-73c087ad-0e70-451c-b5cb-f61d382c18aa
DTSTAMP:20260426T023359Z
SUMMARY:Rosenkranz um Priester und Ordensberufe
DESCRIPTION:https://pfarreien-bistum-augsburg.df-preview.de/rosenkranz-um-p
 riester-und-ordensberufe_id1753137
DTSTART;TZID=Europe/Berlin:20260428T090000
DURATION:PT30M
LOCATION:St. Johannes Baptist\, St.-Johannes-Straße 3\, 87650 Baisweil
END:VEVENT
END:VCALENDAR
