BEGIN:VCALENDAR
VERSION:2.0
PRODID:-//Sabre//Sabre VObject 4.5.8//EN
CALSCALE:GREGORIAN
BEGIN:VEVENT
UID:sabre-vobject-e7123dd4-2e52-4799-a4bf-9876964fb980
DTSTAMP:20260424T205212Z
SUMMARY:Sonntag-Vorabendmesse für die Pfarreiengemeinschaft
DESCRIPTION:https://pfarreien-bistum-augsburg.df-preview.de/sonntag-voraben
 dmesse-fuer-die-pfarreiengemeinschaft_id1753090
DTSTART;TZID=Europe/Berlin:20260502T190000
DURATION:PT30M
LOCATION:St. Peter und Paul
END:VEVENT
END:VCALENDAR
