BEGIN:VCALENDAR
VERSION:2.0
PRODID:-//Sabre//Sabre VObject 4.5.8//EN
CALSCALE:GREGORIAN
BEGIN:VEVENT
UID:sabre-vobject-60040905-2eb5-4c3a-a638-f2dd349c1171
DTSTAMP:20260422T172721Z
SUMMARY:Vorabendmesse (Kollekte f. RENOVABIS)
DESCRIPTION:https://pfarreien-bistum-augsburg.df-preview.de/vorabendmesse-k
 ollekte-f-renovabis_id1753065
DTSTART;TZID=Europe/Berlin:20260523T183000
DURATION:PT30M
LOCATION:Mariä Heimsuchung\, Kirchplatz 1\, 86854 Amberg
END:VEVENT
END:VCALENDAR
