BEGIN:VCALENDAR
VERSION:2.0
PRODID:-//Sabre//Sabre VObject 4.5.8//EN
CALSCALE:GREGORIAN
BEGIN:VEVENT
UID:sabre-vobject-f4f801e9-6f97-472c-a14b-59e0c509181d
DTSTAMP:20260424T135612Z
SUMMARY:Hl. Messe f. d. Lebenden und Verstorbenen der Pfarreiengemeinschaft
DESCRIPTION:https://pfarreien-bistum-augsburg.df-preview.de/hl-messe-f-d-le
 benden-und-verstorbenen-der-pfarreiengemeinschaft_id1753061
DTSTART;TZID=Europe/Berlin:20260517T103000
DURATION:PT30M
LOCATION:Mariä Heimsuchung\, Kirchplatz 1\, 86854 Amberg
END:VEVENT
END:VCALENDAR
