BEGIN:VCALENDAR
VERSION:2.0
PRODID:-//Sabre//Sabre VObject 4.5.8//EN
CALSCALE:GREGORIAN
BEGIN:VEVENT
UID:sabre-vobject-4d0b1ebc-1f0e-4b22-9796-0bd13f6fa986
DTSTAMP:20260424T165300Z
SUMMARY:Komm mit - Mach mit - Amberger Nachmittagskaffee  i. Pfarrheim
DESCRIPTION:https://pfarreien-bistum-augsburg.df-preview.de/komm-mit-mach-m
 it-amberger-nachmittagskaffee-i-pfarrheim_id1753052
DTSTART;TZID=Europe/Berlin:20260505T140000
DURATION:PT30M
LOCATION:Mariä Heimsuchung\, Kirchplatz 1\, 86854 Amberg
END:VEVENT
END:VCALENDAR
